Workbook

Sheet Claim Data
A1: Claim ID | B1: Claimant Name | C1: City/Community | D1: Province/Territory | E1: Work Location | F1: Zone | G1: Residency Start Date | H1: Residency End Date | I1: Eligible Days | J1: Residency Rate per Day | K1: Residency Deduction | L1: Eligible Travel Trips | M1: Eligible Travel Expenses | N1: Employer Travel Assistance | O1: Net Travel Amount | P1: Eligibility Percentage | Q1: Claim Status | R1: Notes
A2: NRD-2026-001 | B2: Liam Anderson | C2: Yellowknife | D2: Northwest Territories | E2: Yellowknife Regional Office | F2: Zone A | G2: 46023 | H2: 46387 | I2: =IF(OR(G2="",H2=""),"",MAX(0,MIN(H2,DATE(2026,12,31))-MAX(G2,DATE(2026,1,1))+1)) | J2: =IF(F2="","",IFERROR(VLOOKUP(F2,'Setup & Instructions'!$B$14:$C$15,2,FALSE),"")) | K2: =IF(OR(I2="",J2=""),"",I2*J2) | L2: 3 | M2: 2650 | N2: 900 | O2: Full-year residence; verify travel receipts. | P2: =IF(I2="","",IFERROR(I2/365,0)) | Q2: =IF(I2="","",IF(I2>=183,"Review for full-year claim",IF(I2>0,"Partial-year claim","Not eligible")))
A3: NRD-2026-002 | B3: Emma Tremblay | C3: Whitehorse | D3: Yukon | E3: Whitehorse Health Centre | F3: Zone A | G3: 46054 | H3: 46387 | I3: =IF(OR(G3="",H3=""),"",MAX(0,MIN(H3,DATE(2026,12,31))-MAX(G3,DATE(2026,1,1))+1)) | J3: =IF(F3="","",IFERROR(VLOOKUP(F3,'Setup & Instructions'!$B$14:$C$15,2,FALSE),"")) | K3: =IF(OR(I3="",J3=""),"",I3*J3) | L3: 2 | M3: 1800 | N3: 500 | O3: Partial-year arrival; retain residence records. | P3: =IF(I3="","",IFERROR(I3/365,0)) | Q3: =IF(I3="","",IF(I3>=183,"Review for full-year claim",IF(I3>0,"Partial-year claim","Not eligible")))
A4: NRD-2026-003 | B4: Noah Campbell | C4: Iqaluit | D4: Nunavut | E4: Iqaluit Community Office | F4: Zone A | G4: 46023 | H4: 46387 | I4: =IF(OR(G4="",H4=""),"",MAX(0,MIN(H4,DATE(2026,12,31))-MAX(G4,DATE(2026,1,1))+1)) | J4: =IF(F4="","",IFERROR(VLOOKUP(F4,'Setup & Instructions'!$B$14:$C$15,2,FALSE),"")) | K4: =IF(OR(I4="",J4=""),"",I4*J4) | L4: 3 | M4: 4800 | N4: 1500 | O4: Employer benefit statement required. | P4: =IF(I4="","",IFERROR(I4/365,0)) | Q4: =IF(I4="","",IF(I4>=183,"Review for full-year claim",IF(I4>0,"Partial-year claim","Not eligible")))
A5: NRD-2026-004 | B5: Olivia Martin | C5: Thompson | D5: Manitoba | E5: Thompson Service Centre | F5: Zone B | G5: 46037 | H5: 46326 | I5: =IF(OR(G5="",H5=""),"",MAX(0,MIN(H5,DATE(2026,12,31))-MAX(G5,DATE(2026,1,1))+1)) | J5: =IF(F5="","",IFERROR(VLOOKUP(F5,'Setup & Instructions'!$B$14:$C$15,2,FALSE),"")) | K5: =IF(OR(I5="",J5=""),"",I5*J5) | L5: 1 | M5: 1400 | N5: 0 | O5: Confirm eligible community listing. | P5: =IF(I5="","",IFERROR(I5/365,0)) | Q5: =IF(I5="","",IF(I5>=183,"Review for full-year claim",IF(I5>0,"Partial-year claim","Not eligible")))
A6: NRD-2026-005 | B6: Lucas Chen | C6: Fort McMurray | D6: Alberta | E6: Fort McMurray Operations Office | F6: Zone B | G6: 46082 | H6: 46387 | I6: =IF(OR(G6="",H6=""),"",MAX(0,MIN(H6,DATE(2026,12,31))-MAX(G6,DATE(2026,1,1))+1)) | J6: =IF(F6="","",IFERROR(VLOOKUP(F6,'Setup & Instructions'!$B$14:$C$15,2,FALSE),"")) | K6: =IF(OR(I6="",J6=""),"",I6*J6) | L6: 2 | M6: 3200 | N6: 1200 | O6: Review employer travel assistance. | P6: =IF(I6="","",IFERROR(I6/365,0)) | Q6: =IF(I6="","",IF(I6>=183,"Review for full-year claim",IF(I6>0,"Partial-year claim","Not eligible")))
A7: NRD-2026-006 | B7: Sophie Gagnon | C7: Rouyn-Noranda | D7: Quebec | E7: Rouyn-Noranda Field Office | F7: Zone B | G7: 46023 | H7: 46203 | I7: =IF(OR(G7="",H7=""),"",MAX(0,MIN(H7,DATE(2026,12,31))-MAX(G7,DATE(2026,1,1))+1)) | J7: =IF(F7="","",IFERROR(VLOOKUP(F7,'Setup & Instructions'!$B$14:$C$15,2,FALSE),"")) | K7: =IF(OR(I7="",J7=""),"",I7*J7) | L7: 1 | M7: 850 | N7: 250 | O7: Mid-year move; retain address documentation. | P7: =IF(I7="","",IFERROR(I7/365,0)) | Q7: =IF(I7="","",IF(I7>=183,"Review for full-year claim",IF(I7>0,"Partial-year claim","Not eligible")))
A8: NRD-2026-007 | B8: Ethan Wilson | C8: Labrador City | D8: Newfoundland and Labrador | E8: Labrador City Technical Centre | F8: Zone A | G8: 46113 | H8: 46387 | I8: =IF(OR(G8="",H8=""),"",MAX(0,MIN(H8,DATE(2026,12,31))-MAX(G8,DATE(2026,1,1))+1)) | J8: =IF(F8="","",IFERROR(VLOOKUP(F8,'Setup & Instructions'!$B$14:$C$15,2,FALSE),"")) | K8: =IF(OR(I8="",J8=""),"",I8*J8) | L8: 2 | M8: 2750 | N8: 700 | O8: Confirm eligible trip criteria. | P8: =IF(I8="","",IFERROR(I8/365,0)) | Q8: =IF(I8="","",IF(I8>=183,"Review for full-year claim",IF(I8>0,"Partial-year claim","Not eligible")))
A9: NRD-2026-008 | B9: Charlotte Roy | C9: Dawson City | D9: Yukon | E9: Dawson City Heritage Centre | F9: Zone A | G9: 46023 | H9: 46295 | I9: =IF(OR(G9="",H9=""),"",MAX(0,MIN(H9,DATE(2026,12,31))-MAX(G9,DATE(2026,1,1))+1)) | J9: =IF(F9="","",IFERROR(VLOOKUP(F9,'Setup & Instructions'!$B$14:$C$15,2,FALSE),"")) | K9: =IF(OR(I9="",J9=""),"",I9*J9) | L9: 2 | M9: 1950 | N9: 0 | O9: Keep accommodation and residence records. | P9: =IF(I9="","",IFERROR(I9/365,0)) | Q9: =IF(I9="","",IF(I9>=183,"Review for full-year claim",IF(I9>0,"Partial-year claim","Not eligible")))
A10: NRD-2026-009 | B10: William Fraser | C10: Prince George | D10: British Columbia | E10: Prince George Forestry Office | F10: Zone B | G10: 46143 | H10: 46387 | I10: =IF(OR(G10="",H10=""),"",MAX(0,MIN(H10,DATE(2026,12,31))-MAX(G10,DATE(2026,1,1))+1)) | J10: =IF(F10="","",IFERROR(VLOOKUP(F10,'Setup & Instructions'!$B$14:$C$15,2,FALSE),"")) | K10: =IF(OR(I10="",J10=""),"",I10*J10) | L10: 1 | M10: 1600 | N10: 450 | O10: Verify Zone B eligibility before filing. | P10: =IF(I10="","",IFERROR(I10/365,0)) | Q10: =IF(I10="","",IF(I10>=183,"Review for full-year claim",IF(I10>0,"Partial-year claim","Not eligible")))
A11: NRD-2026-010 | B11: Ava MacDonald | C11: Yellowknife | D11: Northwest Territories | E11: Yellowknife Aviation Centre | F11: Zone A | G11: 46023 | H11: 46387 | I11: =IF(OR(G11="",H11=""),"",MAX(0,MIN(H11,DATE(2026,12,31))-MAX(G11,DATE(2026,1,1))+1)) | J11: =IF(F11="","",IFERROR(VLOOKUP(F11,'Setup & Instructions'!$B$14:$C$15,2,FALSE),"")) | K11: =IF(OR(I11="",J11=""),"",I11*J11) | L11: 3 | M11: 4100 | N11: 1000 | O11: Full-year residence; retain travel evidence. | P11: =IF(I11="","",IFERROR(I11/365,0)) | Q11: =IF(I11="","",IF(I11>=183,"Review for full-year claim",IF(I11>0,"Partial-year claim","Not eligible")))
I12: =IF(OR(G12="",H12=""),"",MAX(0,MIN(H12,DATE(2026,12,31))-MAX(G12,DATE(2026,1,1))+1)) | J12: =IF(F12="","",IFERROR(VLOOKUP(F12,'Setup & Instructions'!$B$14:$C$15,2,FALSE),"")) | K12: =IF(OR(I12="",J12=""),"",I12*J12) | O12: =IF(M12="","",MAX(0,M12-IF(N12="",0,N12))) | P12: =IF(I12="","",IFERROR(I12/365,0)) | Q12: =IF(I12="","",IF(I12>=183,"Review for full-year claim",IF(I12>0,"Partial-year claim","Not eligible")))
I13: =IF(OR(G13="",H13=""),"",MAX(0,MIN(H13,DATE(2026,12,31))-MAX(G13,DATE(2026,1,1))+1)) | J13: =IF(F13="","",IFERROR(VLOOKUP(F13,'Setup & Instructions'!$B$14:$C$15,2,FALSE),"")) | K13: =IF(OR(I13="",J13=""),"",I13*J13) | O13: =IF(M13="","",MAX(0,M13-IF(N13="",0,N13))) | P13: =IF(I13="","",IFERROR(I13/365,0)) | Q13: =IF(I13="","",IF(I13>=183,"Review for full-year claim",IF(I13>0,"Partial-year claim","Not eligible")))
I14: =IF(OR(G14="",H14=""),"",MAX(0,MIN(H14,DATE(2026,12,31))-MAX(G14,DATE(2026,1,1))+1)) | J14: =IF(F14="","",IFERROR(VLOOKUP(F14,'Setup & Instructions'!$B$14:$C$15,2,FALSE),"")) | K14: =IF(OR(I14="",J14=""),"",I14*J14) | O14: =IF(M14="","",MAX(0,M14-IF(N14="",0,N14))) | P14: =IF(I14="","",IFERROR(I14/365,0)) | Q14: =IF(I14="","",IF(I14>=183,"Review for full-year claim",IF(I14>0,"Partial-year claim","Not eligible")))
I15: =IF(OR(G15="",H15=""),"",MAX(0,MIN(H15,DATE(2026,12,31))-MAX(G15,DATE(2026,1,1))+1)) | J15: =IF(F15="","",IFERROR(VLOOKUP(F15,'Setup & Instructions'!$B$14:$C$15,2,FALSE),"")) | K15: =IF(OR(I15="",J15=""),"",I15*J15) | O15: =IF(M15="","",MAX(0,M15-IF(N15="",0,N15))) | P15: =IF(I15="","",IFERROR(I15/365,0)) | Q15: =IF(I15="","",IF(I15>=183,"Review for full-year claim",IF(I15>0,"Partial-year claim","Not eligible")))
I16: =IF(OR(G16="",H16=""),"",MAX(0,MIN(H16,DATE(2026,12,31))-MAX(G16,DATE(2026,1,1))+1)) | J16: =IF(F16="","",IFERROR(VLOOKUP(F16,'Setup & Instructions'!$B$14:$C$15,2,FALSE),"")) | K16: =IF(OR(I16="",J16=""),"",I16*J16) | O16: =IF(M16="","",MAX(0,M16-IF(N16="",0,N16))) | P16: =IF(I16="","",IFERROR(I16/365,0)) | Q16: =IF(I16="","",IF(I16>=183,"Review for full-year claim",IF(I16>0,"Partial-year claim","Not eligible")))
I17: =IF(OR(G17="",H17=""),"",MAX(0,MIN(H17,DATE(2026,12,31))-MAX(G17,DATE(2026,1,1))+1)) | J17: =IF(F17="","",IFERROR(VLOOKUP(F17,'Setup & Instructions'!$B$14:$C$15,2,FALSE),"")) | K17: =IF(OR(I17="",J17=""),"",I17*J17) | O17: =IF(M17="","",MAX(0,M17-IF(N17="",0,N17))) | P17: =IF(I17="","",IFERROR(I17/365,0)) | Q17: =IF(I17="","",IF(I17>=183,"Review for full-year claim",IF(I17>0,"Partial-year claim","Not eligible")))
I18: =IF(OR(G18="",H18=""),"",MAX(0,MIN(H18,DATE(2026,12,31))-MAX(G18,DATE(2026,1,1))+1)) | J18: =IF(F18="","",IFERROR(VLOOKUP(F18,'Setup & Instructions'!$B$14:$C$15,2,FALSE),"")) | K18: =IF(OR(I18="",J18=""),"",I18*J18) | O18: =IF(M18="","",MAX(0,M18-IF(N18="",0,N18))) | P18: =IF(I18="","",IFERROR(I18/365,0)) | Q18: =IF(I18="","",IF(I18>=183,"Review for full-year claim",IF(I18>0,"Partial-year claim","Not eligible")))
I19: =IF(OR(G19="",H19=""),"",MAX(0,MIN(H19,DATE(2026,12,31))-MAX(G19,DATE(2026,1,1))+1)) | J19: =IF(F19="","",IFERROR(VLOOKUP(F19,'Setup & Instructions'!$B$14:$C$15,2,FALSE),"")) | K19: =IF(OR(I19="",J19=""),"",I19*J19) | O19: =IF(M19="","",MAX(0,M19-IF(N19="",0,N19))) | P19: =IF(I19="","",IFERROR(I19/365,0)) | Q19: =IF(I19="","",IF(I19>=183,"Review for full-year claim",IF(I19>0,"Partial-year claim","Not eligible")))
I20: =IF(OR(G20="",H20=""),"",MAX(0,MIN(H20,DATE(2026,12,31))-MAX(G20,DATE(2026,1,1))+1)) | J20: =IF(F20="","",IFERROR(VLOOKUP(F20,'Setup & Instructions'!$B$14:$C$15,2,FALSE),"")) | K20: =IF(OR(I20="",J20=""),"",I20*J20) | O20: =IF(M20="","",MAX(0,M20-IF(N20="",0,N20))) | P20: =IF(I20="","",IFERROR(I20/365,0)) | Q20: =IF(I20="","",IF(I20>=183,"Review for full-year claim",IF(I20>0,"Partial-year claim","Not eligible")))
I21: =IF(OR(G21="",H21=""),"",MAX(0,MIN(H21,DATE(2026,12,31))-MAX(G21,DATE(2026,1,1))+1)) | J21: =IF(F21="","",IFERROR(VLOOKUP(F21,'Setup & Instructions'!$B$14:$C$15,2,FALSE),"")) | K21: =IF(OR(I21="",J21=""),"",I21*J21) | O21: =IF(M21="","",MAX(0,M21-IF(N21="",0,N21))) | P21: =IF(I21="","",IFERROR(I21/365,0)) | Q21: =IF(I21="","",IF(I21>=183,"Review for full-year claim",IF(I21>0,"Partial-year claim","Not eligible")))
I22: =IF(OR(G22="",H22=""),"",MAX(0,MIN(H22,DATE(2026,12,31))-MAX(G22,DATE(2026,1,1))+1)) | J22: =IF(F22="","",IFERROR(VLOOKUP(F22,'Setup & Instructions'!$B$14:$C$15,2,FALSE),"")) | K22: =IF(OR(I22="",J22=""),"",I22*J22) | O22: =IF(M22="","",MAX(0,M22-IF(N22="",0,N22))) | P22: =IF(I22="","",IFERROR(I22/365,0)) | Q22: =IF(I22="","",IF(I22>=183,"Review for full-year claim",IF(I22>0,"Partial-year claim","Not eligible")))
I23: =IF(OR(G23="",H23=""),"",MAX(0,MIN(H23,DATE(2026,12,31))-MAX(G23,DATE(2026,1,1))+1)) | J23: =IF(F23="","",IFERROR(VLOOKUP(F23,'Setup & Instructions'!$B$14:$C$15,2,FALSE),"")) | K23: =IF(OR(I23="",J23=""),"",I23*J23) | O23: =IF(M23="","",MAX(0,M23-IF(N23="",0,N23))) | P23: =IF(I23="","",IFERROR(I23/365,0)) | Q23: =IF(I23="","",IF(I23>=183,"Review for full-year claim",IF(I23>0,"Partial-year claim","Not eligible")))
... I101: =IF(OR(G101="",H101=""),"",MAX(0,MIN(H101,DATE(2026,12,31))-MAX(G101,DATE(2026,1,1))+1)) | J101: =IF(F101="","",IFERROR(VLOOKUP(F101,'Setup & Instructions'!$B$14:$C$15,2,FALSE),"")) | K101: =IF(OR(I101="",J101=""),"",I101*J101) | O101: =IF(M101="","",MAX(0,M101-IF(N101="",0,N101))) | P101: =IF(I101="","",IFERROR(I101/365,0)) | Q101: =IF(I101="","",IF(I101>=183,"Review for full-year claim",IF(I101>0,"Partial-year claim","Not eligible")))

Sheet Summary Dashboard
A1: 2026 Northern Residents Deduction Estimate
A3: Estimate Overview | D3: Zone Metrics
A4: Total claimants | B4: =COUNTA('Claim Data'!$B$2:$B$101) | D4: Zone A claimant count | E4: =COUNTIF('Claim Data'!$F$2:$F$101,"Zone A")
A5: Total residency deduction | B5: =SUM('Claim Data'!$K$2:$K$101) | D5: Zone B claimant count | E5: =COUNTIF('Claim Data'!$F$2:$F$101,"Zone B")
A6: Average eligible days | B6: =IFERROR(AVERAGE('Claim Data'!$I$2:$I$101),0) | D6: Average eligibility percentage | E6: =IFERROR(AVERAGE('Claim Data'!$P$2:$P$101),0)
A7: Total net travel amount | B7: =SUM('Claim Data'!$O$2:$O$101) | D7: Combined estimated claim | E7: =B5+B7
A10: Claim ID | B10: Claimant Name | C10: Zone | D10: Residency Deduction | E10: Net Travel Amount | F10: Combined Estimated Claim
A11: =IF('Claim Data'!$A$2="","",'Claim Data'!$A$2) | B11: =IF('Claim Data'!$B$2="","",'Claim Data'!$B$2) | C11: =IF('Claim Data'!$F$2="","",'Claim Data'!$F$2) | D11: =IF($A11="","",SUMIF('Claim Data'!$A$2:$A$101,$A11,'Claim Data'!$K$2:$K$101)) | E11: =IF($A11="","",SUMIF('Claim Data'!$A$2:$A$101,$A11,'Claim Data'!$O$2:$O$101)) | F11: =IF(OR(D11="",E11=""),"",D11+E11)
A12: =IF('Claim Data'!$A$3="","",'Claim Data'!$A$3) | B12: =IF('Claim Data'!$B$3="","",'Claim Data'!$B$3) | C12: =IF('Claim Data'!$F$3="","",'Claim Data'!$F$3) | D12: =IF($A12="","",SUMIF('Claim Data'!$A$2:$A$101,$A12,'Claim Data'!$K$2:$K$101)) | E12: =IF($A12="","",SUMIF('Claim Data'!$A$2:$A$101,$A12,'Claim Data'!$O$2:$O$101)) | F12: =IF(OR(D12="",E12=""),"",D12+E12)
A13: =IF('Claim Data'!$A$4="","",'Claim Data'!$A$4) | B13: =IF('Claim Data'!$B$4="","",'Claim Data'!$B$4) | C13: =IF('Claim Data'!$F$4="","",'Claim Data'!$F$4) | D13: =IF($A13="","",SUMIF('Claim Data'!$A$2:$A$101,$A13,'Claim Data'!$K$2:$K$101)) | E13: =IF($A13="","",SUMIF('Claim Data'!$A$2:$A$101,$A13,'Claim Data'!$O$2:$O$101)) | F13: =IF(OR(D13="",E13=""),"",D13+E13)
A14: =IF('Claim Data'!$A$5="","",'Claim Data'!$A$5) | B14: =IF('Claim Data'!$B$5="","",'Claim Data'!$B$5) | C14: =IF('Claim Data'!$F$5="","",'Claim Data'!$F$5) | D14: =IF($A14="","",SUMIF('Claim Data'!$A$2:$A$101,$A14,'Claim Data'!$K$2:$K$101)) | E14: =IF($A14="","",SUMIF('Claim Data'!$A$2:$A$101,$A14,'Claim Data'!$O$2:$O$101)) | F14: =IF(OR(D14="",E14=""),"",D14+E14)
A15: =IF('Claim Data'!$A$6="","",'Claim Data'!$A$6) | B15: =IF('Claim Data'!$B$6="","",'Claim Data'!$B$6) | C15: =IF('Claim Data'!$F$6="","",'Claim Data'!$F$6) | D15: =IF($A15="","",SUMIF('Claim Data'!$A$2:$A$101,$A15,'Claim Data'!$K$2:$K$101)) | E15: =IF($A15="","",SUMIF('Claim Data'!$A$2:$A$101,$A15,'Claim Data'!$O$2:$O$101)) | F15: =IF(OR(D15="",E15=""),"",D15+E15)
A16: =IF('Claim Data'!$A$7="","",'Claim Data'!$A$7) | B16: =IF('Claim Data'!$B$7="","",'Claim Data'!$B$7) | C16: =IF('Claim Data'!$F$7="","",'Claim Data'!$F$7) | D16: =IF($A16="","",SUMIF('Claim Data'!$A$2:$A$101,$A16,'Claim Data'!$K$2:$K$101)) | E16: =IF($A16="","",SUMIF('Claim Data'!$A$2:$A$101,$A16,'Claim Data'!$O$2:$O$101)) | F16: =IF(OR(D16="",E16=""),"",D16+E16)
A17: =IF('Claim Data'!$A$8="","",'Claim Data'!$A$8) | B17: =IF('Claim Data'!$B$8="","",'Claim Data'!$B$8) | C17: =IF('Claim Data'!$F$8="","",'Claim Data'!$F$8) | D17: =IF($A17="","",SUMIF('Claim Data'!$A$2:$A$101,$A17,'Claim Data'!$K$2:$K$101)) | E17: =IF($A17="","",SUMIF('Claim Data'!$A$2:$A$101,$A17,'Claim Data'!$O$2:$O$101)) | F17: =IF(OR(D17="",E17=""),"",D17+E17)
A18: =IF('Claim Data'!$A$9="","",'Claim Data'!$A$9) | B18: =IF('Claim Data'!$B$9="","",'Claim Data'!$B$9) | C18: =IF('Claim Data'!$F$9="","",'Claim Data'!$F$9) | D18: =IF($A18="","",SUMIF('Claim Data'!$A$2:$A$101,$A18,'Claim Data'!$K$2:$K$101)) | E18: =IF($A18="","",SUMIF('Claim Data'!$A$2:$A$101,$A18,'Claim Data'!$O$2:$O$101)) | F18: =IF(OR(D18="",E18=""),"",D18+E18)
A19: =IF('Claim Data'!$A$10="","",'Claim Data'!$A$10) | B19: =IF('Claim Data'!$B$10="","",'Claim Data'!$B$10) | C19: =IF('Claim Data'!$F$10="","",'Claim Data'!$F$10) | D19: =IF($A19="","",SUMIF('Claim Data'!$A$2:$A$101,$A19,'Claim Data'!$K$2:$K$101)) | E19: =IF($A19="","",SUMIF('Claim Data'!$A$2:$A$101,$A19,'Claim Data'!$O$2:$O$101)) | F19: =IF(OR(D19="",E19=""),"",D19+E19)
A20: =IF('Claim Data'!$A$11="","",'Claim Data'!$A$11) | B20: =IF('Claim Data'!$B$11="","",'Claim Data'!$B$11) | C20: =IF('Claim Data'!$F$11="","",'Claim Data'!$F$11) | D20: =IF($A20="","",SUMIF('Claim Data'!$A$2:$A$101,$A20,'Claim Data'!$K$2:$K$101)) | E20: =IF($A20="","",SUMIF('Claim Data'!$A$2:$A$101,$A20,'Claim Data'!$O$2:$O$101)) | F20: =IF(OR(D20="",E20=""),"",D20+E20)
A21: =IF('Claim Data'!$A$12="","",'Claim Data'!$A$12) | B21: =IF('Claim Data'!$B$12="","",'Claim Data'!$B$12) | C21: =IF('Claim Data'!$F$12="","",'Claim Data'!$F$12) | D21: =IF($A21="","",SUMIF('Claim Data'!$A$2:$A$101,$A21,'Claim Data'!$K$2:$K$101)) | E21: =IF($A21="","",SUMIF('Claim Data'!$A$2:$A$101,$A21,'Claim Data'!$O$2:$O$101)) | F21: =IF(OR(D21="",E21=""),"",D21+E21)
A22: =IF('Claim Data'!$A$13="","",'Claim Data'!$A$13) | B22: =IF('Claim Data'!$B$13="","",'Claim Data'!$B$13) | C22: =IF('Claim Data'!$F$13="","",'Claim Data'!$F$13) | D22: =IF($A22="","",SUMIF('Claim Data'!$A$2:$A$101,$A22,'Claim Data'!$K$2:$K$101)) | E22: =IF($A22="","",SUMIF('Claim Data'!$A$2:$A$101,$A22,'Claim Data'!$O$2:$O$101)) | F22: =IF(OR(D22="",E22=""),"",D22+E22)
A23: =IF('Claim Data'!$A$14="","",'Claim Data'!$A$14) | B23: =IF('Claim Data'!$B$14="","",'Claim Data'!$B$14) | C23: =IF('Claim Data'!$F$14="","",'Claim Data'!$F$14) | D23: =IF($A23="","",SUMIF('Claim Data'!$A$2:$A$101,$A23,'Claim Data'!$K$2:$K$101)) | E23: =IF($A23="","",SUMIF('Claim Data'!$A$2:$A$101,$A23,'Claim Data'!$O$2:$O$101)) | F23: =IF(OR(D23="",E23=""),"",D23+E23)
A24: =IF('Claim Data'!$A$15="","",'Claim Data'!$A$15) | B24: =IF('Claim Data'!$B$15="","",'Claim Data'!$B$15) | C24: =IF('Claim Data'!$F$15="","",'Claim Data'!$F$15) | D24: =IF($A24="","",SUMIF('Claim Data'!$A$2:$A$101,$A24,'Claim Data'!$K$2:$K$101)) | E24: =IF($A24="","",SUMIF('Claim Data'!$A$2:$A$101,$A24,'Claim Data'!$O$2:$O$101)) | F24: =IF(OR(D24="",E24=""),"",D24+E24)
A25: =IF('Claim Data'!$A$16="","",'Claim Data'!$A$16) | B25: =IF('Claim Data'!$B$16="","",'Claim Data'!$B$16) | C25: =IF('Claim Data'!$F$16="","",'Claim Data'!$F$16) | D25: =IF($A25="","",SUMIF('Claim Data'!$A$2:$A$101,$A25,'Claim Data'!$K$2:$K$101)) | E25: =IF($A25="","",SUMIF('Claim Data'!$A$2:$A$101,$A25,'Claim Data'!$O$2:$O$101)) | F25: =IF(OR(D25="",E25=""),"",D25+E25)
A26: =IF('Claim Data'!$A$17="","",'Claim Data'!$A$17) | B26: =IF('Claim Data'!$B$17="","",'Claim Data'!$B$17) | C26: =IF('Claim Data'!$F$17="","",'Claim Data'!$F$17) | D26: =IF($A26="","",SUMIF('Claim Data'!$A$2:$A$101,$A26,'Claim Data'!$K$2:$K$101)) | E26: =IF($A26="","",SUMIF('Claim Data'!$A$2:$A$101,$A26,'Claim Data'!$O$2:$O$101)) | F26: =IF(OR(D26="",E26=""),"",D26+E26)
A27: =IF('Claim Data'!$A$18="","",'Claim Data'!$A$18) | B27: =IF('Claim Data'!$B$18="","",'Claim Data'!$B$18) | C27: =IF('Claim Data'!$F$18="","",'Claim Data'!$F$18) | D27: =IF($A27="","",SUMIF('Claim Data'!$A$2:$A$101,$A27,'Claim Data'!$K$2:$K$101)) | E27: =IF($A27="","",SUMIF('Claim Data'!$A$2:$A$101,$A27,'Claim Data'!$O$2:$O$101)) | F27: =IF(OR(D27="",E27=""),"",D27+E27)
A28: =IF('Claim Data'!$A$19="","",'Claim Data'!$A$19) | B28: =IF('Claim Data'!$B$19="","",'Claim Data'!$B$19) | C28: =IF('Claim Data'!$F$19="","",'Claim Data'!$F$19) | D28: =IF($A28="","",SUMIF('Claim Data'!$A$2:$A$101,$A28,'Claim Data'!$K$2:$K$101)) | E28: =IF($A28="","",SUMIF('Claim Data'!$A$2:$A$101,$A28,'Claim Data'!$O$2:$O$101)) | F28: =IF(OR(D28="",E28=""),"",D28+E28)
A29: =IF('Claim Data'!$A$20="","",'Claim Data'!$A$20) | B29: =IF('Claim Data'!$B$20="","",'Claim Data'!$B$20) | C29: =IF('Claim Data'!$F$20="","",'Claim Data'!$F$20) | D29: =IF($A29="","",SUMIF('Claim Data'!$A$2:$A$101,$A29,'Claim Data'!$K$2:$K$101)) | E29: =IF($A29="","",SUMIF('Claim Data'!$A$2:$A$101,$A29,'Claim Data'!$O$2:$O$101)) | F29: =IF(OR(D29="",E29=""),"",D29+E29)
A30: =IF('Claim Data'!$A$21="","",'Claim Data'!$A$21) | B30: =IF('Claim Data'!$B$21="","",'Claim Data'!$B$21) | C30: =IF('Claim Data'!$F$21="","",'Claim Data'!$F$21) | D30: =IF($A30="","",SUMIF('Claim Data'!$A$2:$A$101,$A30,'Claim Data'!$K$2:$K$101)) | E30: =IF($A30="","",SUMIF('Claim Data'!$A$2:$A$101,$A30,'Claim Data'!$O$2:$O$101)) | F30: =IF(OR(D30="",E30=""),"",D30+E30)
A31: =IF('Claim Data'!$A$22="","",'Claim Data'!$A$22) | B31: =IF('Claim Data'!$B$22="","",'Claim Data'!$B$22) | C31: =IF('Claim Data'!$F$22="","",'Claim Data'!$F$22) | D31: =IF($A31="","",SUMIF('Claim Data'!$A$2:$A$101,$A31,'Claim Data'!$K$2:$K$101)) | E31: =IF($A31="","",SUMIF('Claim Data'!$A$2:$A$101,$A31,'Claim Data'!$O$2:$O$101)) | F31: =IF(OR(D31="",E31=""),"",D31+E31)
A32: =IF('Claim Data'!$A$23="","",'Claim Data'!$A$23) | B32: =IF('Claim Data'!$B$23="","",'Claim Data'!$B$23) | C32: =IF('Claim Data'!$F$23="","",'Claim Data'!$F$23) | D32: =IF($A32="","",SUMIF('Claim Data'!$A$2:$A$101,$A32,'Claim Data'!$K$2:$K$101)) | E32: =IF($A32="","",SUMIF('Claim Data'!$A$2:$A$101,$A32,'Claim Data'!$O$2:$O$101)) | F32: =IF(OR(D32="",E32=""),"",D32+E32)
A33: =IF('Claim Data'!$A$24="","",'Claim Data'!$A$24) | B33: =IF('Claim Data'!$B$24="","",'Claim Data'!$B$24) | C33: =IF('Claim Data'!$F$24="","",'Claim Data'!$F$24) | D33: =IF($A33="","",SUMIF('Claim Data'!$A$2:$A$101,$A33,'Claim Data'!$K$2:$K$101)) | E33: =IF($A33="","",SUMIF('Claim Data'!$A$2:$A$101,$A33,'Claim Data'!$O$2:$O$101)) | F33: =IF(OR(D33="",E33=""),"",D33+E33)
A34: =IF('Claim Data'!$A$25="","",'Claim Data'!$A$25) | B34: =IF('Claim Data'!$B$25="","",'Claim Data'!$B$25) | C34: =IF('Claim Data'!$F$25="","",'Claim Data'!$F$25) | D34: =IF($A34="","",SUMIF('Claim Data'!$A$2:$A$101,$A34,'Claim Data'!$K$2:$K$101)) | E34: =IF($A34="","",SUMIF('Claim Data'!$A$2:$A$101,$A34,'Claim Data'!$O$2:$O$101)) | F34: =IF(OR(D34="",E34=""),"",D34+E34)
A35: =IF('Claim Data'!$A$26="","",'Claim Data'!$A$26) | B35: =IF('Claim Data'!$B$26="","",'Claim Data'!$B$26) | C35: =IF('Claim Data'!$F$26="","",'Claim Data'!$F$26) | D35: =IF($A35="","",SUMIF('Claim Data'!$A$2:$A$101,$A35,'Claim Data'!$K$2:$K$101)) | E35: =IF($A35="","",SUMIF('Claim Data'!$A$2:$A$101,$A35,'Claim Data'!$O$2:$O$101)) | F35: =IF(OR(D35="",E35=""),"",D35+E35)
A36: =IF('Claim Data'!$A$27="","",'Claim Data'!$A$27) | B36: =IF('Claim Data'!$B$27="","",'Claim Data'!$B$27) | C36: =IF('Claim Data'!$F$27="","",'Claim Data'!$F$27) | D36: =IF($A36="","",SUMIF('Claim Data'!$A$2:$A$101,$A36,'Claim Data'!$K$2:$K$101)) | E36: =IF($A36="","",SUMIF('Claim Data'!$A$2:$A$101,$A36,'Claim Data'!$O$2:$O$101)) | F36: =IF(OR(D36="",E36=""),"",D36+E36)
A37: =IF('Claim Data'!$A$28="","",'Claim Data'!$A$28) | B37: =IF('Claim Data'!$B$28="","",'Claim Data'!$B$28) | C37: =IF('Claim Data'!$F$28="","",'Claim Data'!$F$28) | D37: =IF($A37="","",SUMIF('Claim Data'!$A$2:$A$101,$A37,'Claim Data'!$K$2:$K$101)) | E37: =IF($A37="","",SUMIF('Claim Data'!$A$2:$A$101,$A37,'Claim Data'!$O$2:$O$101)) | F37: =IF(OR(D37="",E37=""),"",D37+E37)
A38: =IF('Claim Data'!$A$29="","",'Claim Data'!$A$29) | B38: =IF('Claim Data'!$B$29="","",'Claim Data'!$B$29) | C38: =IF('Claim Data'!$F$29="","",'Claim Data'!$F$29) | D38: =IF($A38="","",SUMIF('Claim Data'!$A$2:$A$101,$A38,'Claim Data'!$K$2:$K$101)) | E38: =IF($A38="","",SUMIF('Claim Data'!$A$2:$A$101,$A38,'Claim Data'!$O$2:$O$101)) | F38: =IF(OR(D38="",E38=""),"",D38+E38)
A39: =IF('Claim Data'!$A$30="","",'Claim Data'!$A$30) | B39: =IF('Claim Data'!$B$30="","",'Claim Data'!$B$30) | C39: =IF('Claim Data'!$F$30="","",'Claim Data'!$F$30) | D39: =IF($A39="","",SUMIF('Claim Data'!$A$2:$A$101,$A39,'Claim Data'!$K$2:$K$101)) | E39: =IF($A39="","",SUMIF('Claim Data'!$A$2:$A$101,$A39,'Claim Data'!$O$2:$O$101)) | F39: =IF(OR(D39="",E39=""),"",D39+E39)
A40: =IF('Claim Data'!$A$31="","",'Claim Data'!$A$31) | B40: =IF('Claim Data'!$B$31="","",'Claim Data'!$B$31) | C40: =IF('Claim Data'!$F$31="","",'Claim Data'!$F$31) | D40: =IF($A40="","",SUMIF('Claim Data'!$A$2:$A$101,$A40,'Claim Data'!$K$2:$K$101)) | E40: =IF($A40="","",SUMIF('Claim Data'!$A$2:$A$101,$A40,'Claim Data'!$O$2:$O$101)) | F40: =IF(OR(D40="",E40=""),"",D40+E40)
A41: =IF('Claim Data'!$A$32="","",'Claim Data'!$A$32) | B41: =IF('Claim Data'!$B$32="","",'Claim Data'!$B$32) | C41: =IF('Claim Data'!$F$32="","",'Claim Data'!$F$32) | D41: =IF($A41="","",SUMIF('Claim Data'!$A$2:$A$101,$A41,'Claim Data'!$K$2:$K$101)) | E41: =IF($A41="","",SUMIF('Claim Data'!$A$2:$A$101,$A41,'Claim Data'!$O$2:$O$101)) | F41: =IF(OR(D41="",E41=""),"",D41+E41)
A42: =IF('Claim Data'!$A$33="","",'Claim Data'!$A$33) | B42: =IF('Claim Data'!$B$33="","",'Claim Data'!$B$33) | C42: =IF('Claim Data'!$F$33="","",'Claim Data'!$F$33) | D42: =IF($A42="","",SUMIF('Claim Data'!$A$2:$A$101,$A42,'Claim Data'!$K$2:$K$101)) | E42: =IF($A42="","",SUMIF('Claim Data'!$A$2:$A$101,$A42,'Claim Data'!$O$2:$O$101)) | F42: =IF(OR(D42="",E42=""),"",D42+E42)
A43: =IF('Claim Data'!$A$34="","",'Claim Data'!$A$34) | B43: =IF('Claim Data'!$B$34="","",'Claim Data'!$B$34) | C43: =IF('Claim Data'!$F$34="","",'Claim Data'!$F$34) | D43: =IF($A43="","",SUMIF('Claim Data'!$A$2:$A$101,$A43,'Claim Data'!$K$2:$K$101)) | E43: =IF($A43="","",SUMIF('Claim Data'!$A$2:$A$101,$A43,'Claim Data'!$O$2:$O$101)) | F43: =IF(OR(D43="",E43=""),"",D43+E43)
...

Sheet Setup & Instructions
A1: Setup & Instructions — Northern Residents Deduction Estimate
A2: Use this workbook to estimate potential 2026 Northern Residents Deduction amounts for Canadian taxpayers.
A3: Topic | B3: Guidance
A4: Purpose | B4: This workbook is an estimating tool for residency and travel amounts that may be relevant to a 2026 Northern Residents Deduction claim.
A5: Claim Data | B5: Enter one claimant record per row. Use the Zone A or Zone B dropdown, enter actual residency dates, and review the calculated eligible days.
A6: Travel entries | B6: Enter eligible travel trips, eligible travel expenses, and any employer travel assistance. Net travel amount is limited to the expense amount after assistance.
A7: Records to retain | B7: Retain receipts, travel records, employer benefit statements, proof of residence, and any other supporting documents required for a tax return.
A8: Eligibility review | B8: Confirm the community is an eligible prescribed northern or intermediate zone and review all CRA conditions that apply to the taxpayer.
A9: Employer benefits | B9: Employer-provided travel benefits may interact with travel claims and other northern residents deduction requirements. Review the applicable CRA guidance.
A10: Disclaimer | B10: This is an estimating tool, not tax advice. Verify current CRA rules, eligible locations, rates, documentation requirements, and applicable 2026 CRA guidance before completing a T1 return.
A12: Editable assumptions
A13: Rates to be verified against current CRA guidance | B13: Zone | C13: Illustrative 2026 Daily Rate
B14: Zone A | C14: 11
B15: Zone B | C15: 5.5
A17: Important note | B17: Illustrative rates are editable assumptions only. Confirm the applicable 2026 CRA rate and all claim requirements before filing.
