Workbook

Sheet Remittance Register
A1: WSIB Premium Remittance Register — Ontario
A2: Remittance ID | B2: Reporting Period Start | C2: Reporting Period End | D2: Payment Due Date | E2: Employee Name | F2: City | G2: WSIB Account Number | H2: NAICS / WSIB Class Code | I2: Business Activity | J2: Insurable Earnings (CAD) | K2: Maximum Annual Insurable Earnings (CAD) | L2: Rate per $100 of Earnings | M2: WSIB Premium Before Adjustment (CAD) | N2: Experience Rating Adjustment % | O2: Adjusted Premium (CAD) | P2: Payment Status | Q2: Payment Date | R2: Variance to Prior Period (CAD) | S2: Notes | T2: Maximum Check
A3: WSIB-2026-001 | B3: 46023 | C3: 46053 | D3: 46063 | E3: Liam Thompson | F3: Toronto | G3: 168942351 | H3: 10000 | I3: =IF(H3="","",IFERROR(VLOOKUP(H3,'Reference & Instructions'!$A$14:$D$20,2,FALSE),"")) | J3: 5250 | L3: =IF(H3="","",IFERROR(VLOOKUP(H3,'Reference & Instructions'!$A$14:$D$20,4,FALSE),"")) | M3: =IF(OR(J3="",L3=""),"",J3*L3/100) | N3: 0.02 | O3: =IF(M3="","",M3*(1+IF(N3="",0,N3))) | P3: Paid | Q3: 46063 | R3: =IF(OR(E3="",C3="",O3=""),"",O3-IFERROR(SUMIFS($O$3:$O$102,$E$3:$E$102,E3,$C$3:$C$102,"<"&C3),0)) | S3: January payroll remittance | T3: =IF(OR(J3="",K3=""),"",IF(J3<=K3,"Within maximum","Review maximum"))
A4: WSIB-2026-002 | B4: 46054 | C4: 46081 | D4: 46091 | E4: Emma Tremblay | F4: Ottawa | G4: 168942351 | H4: 12100 | I4: =IF(H4="","",IFERROR(VLOOKUP(H4,'Reference & Instructions'!$A$14:$D$20,2,FALSE),"")) | J4: 6800 | L4: =IF(H4="","",IFERROR(VLOOKUP(H4,'Reference & Instructions'!$A$14:$D$20,4,FALSE),"")) | M4: =IF(OR(J4="",L4=""),"",J4*L4/100) | N4: -0.01 | O4: =IF(M4="","",M4*(1+IF(N4="",0,N4))) | P4: Paid | Q4: 46091 | R4: =IF(OR(E4="",C4="",O4=""),"",O4-IFERROR(SUMIFS($O$3:$O$102,$E$3:$E$102,E4,$C$3:$C$102,"<"&C4),0)) | S4: February payroll remittance | T4: =IF(OR(J4="",K4=""),"",IF(J4<=K4,"Within maximum","Review maximum"))
A5: WSIB-2026-003 | B5: 46082 | C5: 46112 | D5: 46122 | E5: Noah Singh | F5: Mississauga | G5: 168942351 | H5: 10150 | I5: =IF(H5="","",IFERROR(VLOOKUP(H5,'Reference & Instructions'!$A$14:$D$20,2,FALSE),"")) | J5: 7350 | L5: =IF(H5="","",IFERROR(VLOOKUP(H5,'Reference & Instructions'!$A$14:$D$20,4,FALSE),"")) | M5: =IF(OR(J5="",L5=""),"",J5*L5/100) | N5: 0.03 | O5: =IF(M5="","",M5*(1+IF(N5="",0,N5))) | P5: Paid | Q5: 46125 | R5: =IF(OR(E5="",C5="",O5=""),"",O5-IFERROR(SUMIFS($O$3:$O$102,$E$3:$E$102,E5,$C$3:$C$102,"<"&C5),0)) | S5: Retail payroll review completed | T5: =IF(OR(J5="",K5=""),"",IF(J5<=K5,"Within maximum","Review maximum"))
A6: WSIB-2026-004 | B6: 46113 | C6: 46142 | D6: 46152 | E6: Olivia Martin | F6: Hamilton | G6: 168942351 | H6: 11200 | I6: =IF(H6="","",IFERROR(VLOOKUP(H6,'Reference & Instructions'!$A$14:$D$20,2,FALSE),"")) | J6: 9800 | L6: =IF(H6="","",IFERROR(VLOOKUP(H6,'Reference & Instructions'!$A$14:$D$20,4,FALSE),"")) | M6: =IF(OR(J6="",L6=""),"",J6*L6/100) | N6: -0.02 | O6: =IF(M6="","",M6*(1+IF(N6="",0,N6))) | P6: Paid | Q6: 46153 | R6: =IF(OR(E6="",C6="",O6=""),"",O6-IFERROR(SUMIFS($O$3:$O$102,$E$3:$E$102,E6,$C$3:$C$102,"<"&C6),0)) | S6: Construction support classification confirmed | T6: =IF(OR(J6="",K6=""),"",IF(J6<=K6,"Within maximum","Review maximum"))
A7: WSIB-2026-005 | B7: 46143 | C7: 46173 | D7: 46183 | E7: Lucas Chen | F7: Markham | G7: 168942351 | H7: 12100 | I7: =IF(H7="","",IFERROR(VLOOKUP(H7,'Reference & Instructions'!$A$14:$D$20,2,FALSE),"")) | J7: 6200 | L7: =IF(H7="","",IFERROR(VLOOKUP(H7,'Reference & Instructions'!$A$14:$D$20,4,FALSE),"")) | M7: =IF(OR(J7="",L7=""),"",J7*L7/100) | N7: 0 | O7: =IF(M7="","",M7*(1+IF(N7="",0,N7))) | P7: Paid | Q7: 46183 | R7: =IF(OR(E7="",C7="",O7=""),"",O7-IFERROR(SUMIFS($O$3:$O$102,$E$3:$E$102,E7,$C$3:$C$102,"<"&C7),0)) | S7: Professional services payroll remittance | T7: =IF(OR(J7="",K7=""),"",IF(J7<=K7,"Within maximum","Review maximum"))
A8: WSIB-2026-006 | B8: 46174 | C8: 46203 | D8: 46213 | E8: Sophie Gagnon | F8: Kingston | G8: 168942351 | H8: 11400 | I8: =IF(H8="","",IFERROR(VLOOKUP(H8,'Reference & Instructions'!$A$14:$D$20,2,FALSE),"")) | J8: 4450 | L8: =IF(H8="","",IFERROR(VLOOKUP(H8,'Reference & Instructions'!$A$14:$D$20,4,FALSE),"")) | M8: =IF(OR(J8="",L8=""),"",J8*L8/100) | N8: 0.05 | O8: =IF(M8="","",M8*(1+IF(N8="",0,N8))) | P8: Review | R8: =IF(OR(E8="",C8="",O8=""),"",O8-IFERROR(SUMIFS($O$3:$O$102,$E$3:$E$102,E8,$C$3:$C$102,"<"&C8),0)) | S8: Confirm supporting payroll records before payment | T8: =IF(OR(J8="",K8=""),"",IF(J8<=K8,"Within maximum","Review maximum"))
A9: WSIB-2026-007 | B9: 46204 | C9: 46234 | D9: 46244 | E9: Ethan Wilson | F9: London | G9: 168942351 | H9: 13100 | I9: =IF(H9="","",IFERROR(VLOOKUP(H9,'Reference & Instructions'!$A$14:$D$20,2,FALSE),"")) | J9: 8150 | L9: =IF(H9="","",IFERROR(VLOOKUP(H9,'Reference & Instructions'!$A$14:$D$20,4,FALSE),"")) | M9: =IF(OR(J9="",L9=""),"",J9*L9/100) | N9: 0.01 | O9: =IF(M9="","",M9*(1+IF(N9="",0,N9))) | P9: Paid | Q9: 46244 | R9: =IF(OR(E9="",C9="",O9=""),"",O9-IFERROR(SUMIFS($O$3:$O$102,$E$3:$E$102,E9,$C$3:$C$102,"<"&C9),0)) | S9: Warehousing payroll remittance | T9: =IF(OR(J9="",K9=""),"",IF(J9<=K9,"Within maximum","Review maximum"))
A10: WSIB-2026-008 | B10: 46235 | C10: 46265 | D10: 46336 | E10: Charlotte Brown | F10: Windsor | G10: 168942351 | H10: 14100 | I10: =IF(H10="","",IFERROR(VLOOKUP(H10,'Reference & Instructions'!$A$14:$D$20,2,FALSE),"")) | J10: 7600 | L10: =IF(H10="","",IFERROR(VLOOKUP(H10,'Reference & Instructions'!$A$14:$D$20,4,FALSE),"")) | M10: =IF(OR(J10="",L10=""),"",J10*L10/100) | N10: 0 | O10: =IF(M10="","",M10*(1+IF(N10="",0,N10))) | P10: Pending | R10: =IF(OR(E10="",C10="",O10=""),"",O10-IFERROR(SUMIFS($O$3:$O$102,$E$3:$E$102,E10,$C$3:$C$102,"<"&C10),0)) | S10: Confirm payment date with WSIB filing schedule | T10: =IF(OR(J10="",K10=""),"",IF(J10<=K10,"Within maximum","Review maximum"))
A11: WSIB-2026-009 | B11: 46266 | C11: 46295 | D11: 46341 | E11: William MacDonald | F11: Barrie | G11: 168942351 | H11: 10000 | I11: =IF(H11="","",IFERROR(VLOOKUP(H11,'Reference & Instructions'!$A$14:$D$20,2,FALSE),"")) | J11: 5900 | L11: =IF(H11="","",IFERROR(VLOOKUP(H11,'Reference & Instructions'!$A$14:$D$20,4,FALSE),"")) | M11: =IF(OR(J11="",L11=""),"",J11*L11/100) | N11: -0.01 | O11: =IF(M11="","",M11*(1+IF(N11="",0,N11))) | P11: Paid | Q11: 46310 | R11: =IF(OR(E11="",C11="",O11=""),"",O11-IFERROR(SUMIFS($O$3:$O$102,$E$3:$E$102,E11,$C$3:$C$102,"<"&C11),0)) | S11: September payroll remittance paid early | T11: =IF(OR(J11="",K11=""),"",IF(J11<=K11,"Within maximum","Review maximum"))
I12: =IF(H12="","",IFERROR(VLOOKUP(H12,'Reference & Instructions'!$A$14:$D$20,2,FALSE),"")) | L12: =IF(H12="","",IFERROR(VLOOKUP(H12,'Reference & Instructions'!$A$14:$D$20,4,FALSE),"")) | M12: =IF(OR(J12="",L12=""),"",J12*L12/100) | O12: =IF(M12="","",M12*(1+IF(N12="",0,N12))) | R12: =IF(OR(E12="",C12="",O12=""),"",O12-IFERROR(SUMIFS($O$3:$O$102,$E$3:$E$102,E12,$C$3:$C$102,"<"&C12),0)) | T12: =IF(OR(J12="",K12=""),"",IF(J12<=K12,"Within maximum","Review maximum"))
I13: =IF(H13="","",IFERROR(VLOOKUP(H13,'Reference & Instructions'!$A$14:$D$20,2,FALSE),"")) | L13: =IF(H13="","",IFERROR(VLOOKUP(H13,'Reference & Instructions'!$A$14:$D$20,4,FALSE),"")) | M13: =IF(OR(J13="",L13=""),"",J13*L13/100) | O13: =IF(M13="","",M13*(1+IF(N13="",0,N13))) | R13: =IF(OR(E13="",C13="",O13=""),"",O13-IFERROR(SUMIFS($O$3:$O$102,$E$3:$E$102,E13,$C$3:$C$102,"<"&C13),0)) | T13: =IF(OR(J13="",K13=""),"",IF(J13<=K13,"Within maximum","Review maximum"))
I14: =IF(H14="","",IFERROR(VLOOKUP(H14,'Reference & Instructions'!$A$14:$D$20,2,FALSE),"")) | L14: =IF(H14="","",IFERROR(VLOOKUP(H14,'Reference & Instructions'!$A$14:$D$20,4,FALSE),"")) | M14: =IF(OR(J14="",L14=""),"",J14*L14/100) | O14: =IF(M14="","",M14*(1+IF(N14="",0,N14))) | R14: =IF(OR(E14="",C14="",O14=""),"",O14-IFERROR(SUMIFS($O$3:$O$102,$E$3:$E$102,E14,$C$3:$C$102,"<"&C14),0)) | T14: =IF(OR(J14="",K14=""),"",IF(J14<=K14,"Within maximum","Review maximum"))
I15: =IF(H15="","",IFERROR(VLOOKUP(H15,'Reference & Instructions'!$A$14:$D$20,2,FALSE),"")) | L15: =IF(H15="","",IFERROR(VLOOKUP(H15,'Reference & Instructions'!$A$14:$D$20,4,FALSE),"")) | M15: =IF(OR(J15="",L15=""),"",J15*L15/100) | O15: =IF(M15="","",M15*(1+IF(N15="",0,N15))) | R15: =IF(OR(E15="",C15="",O15=""),"",O15-IFERROR(SUMIFS($O$3:$O$102,$E$3:$E$102,E15,$C$3:$C$102,"<"&C15),0)) | T15: =IF(OR(J15="",K15=""),"",IF(J15<=K15,"Within maximum","Review maximum"))
I16: =IF(H16="","",IFERROR(VLOOKUP(H16,'Reference & Instructions'!$A$14:$D$20,2,FALSE),"")) | L16: =IF(H16="","",IFERROR(VLOOKUP(H16,'Reference & Instructions'!$A$14:$D$20,4,FALSE),"")) | M16: =IF(OR(J16="",L16=""),"",J16*L16/100) | O16: =IF(M16="","",M16*(1+IF(N16="",0,N16))) | R16: =IF(OR(E16="",C16="",O16=""),"",O16-IFERROR(SUMIFS($O$3:$O$102,$E$3:$E$102,E16,$C$3:$C$102,"<"&C16),0)) | T16: =IF(OR(J16="",K16=""),"",IF(J16<=K16,"Within maximum","Review maximum"))
I17: =IF(H17="","",IFERROR(VLOOKUP(H17,'Reference & Instructions'!$A$14:$D$20,2,FALSE),"")) | L17: =IF(H17="","",IFERROR(VLOOKUP(H17,'Reference & Instructions'!$A$14:$D$20,4,FALSE),"")) | M17: =IF(OR(J17="",L17=""),"",J17*L17/100) | O17: =IF(M17="","",M17*(1+IF(N17="",0,N17))) | R17: =IF(OR(E17="",C17="",O17=""),"",O17-IFERROR(SUMIFS($O$3:$O$102,$E$3:$E$102,E17,$C$3:$C$102,"<"&C17),0)) | T17: =IF(OR(J17="",K17=""),"",IF(J17<=K17,"Within maximum","Review maximum"))
I18: =IF(H18="","",IFERROR(VLOOKUP(H18,'Reference & Instructions'!$A$14:$D$20,2,FALSE),"")) | L18: =IF(H18="","",IFERROR(VLOOKUP(H18,'Reference & Instructions'!$A$14:$D$20,4,FALSE),"")) | M18: =IF(OR(J18="",L18=""),"",J18*L18/100) | O18: =IF(M18="","",M18*(1+IF(N18="",0,N18))) | R18: =IF(OR(E18="",C18="",O18=""),"",O18-IFERROR(SUMIFS($O$3:$O$102,$E$3:$E$102,E18,$C$3:$C$102,"<"&C18),0)) | T18: =IF(OR(J18="",K18=""),"",IF(J18<=K18,"Within maximum","Review maximum"))
I19: =IF(H19="","",IFERROR(VLOOKUP(H19,'Reference & Instructions'!$A$14:$D$20,2,FALSE),"")) | L19: =IF(H19="","",IFERROR(VLOOKUP(H19,'Reference & Instructions'!$A$14:$D$20,4,FALSE),"")) | M19: =IF(OR(J19="",L19=""),"",J19*L19/100) | O19: =IF(M19="","",M19*(1+IF(N19="",0,N19))) | R19: =IF(OR(E19="",C19="",O19=""),"",O19-IFERROR(SUMIFS($O$3:$O$102,$E$3:$E$102,E19,$C$3:$C$102,"<"&C19),0)) | T19: =IF(OR(J19="",K19=""),"",IF(J19<=K19,"Within maximum","Review maximum"))
I20: =IF(H20="","",IFERROR(VLOOKUP(H20,'Reference & Instructions'!$A$14:$D$20,2,FALSE),"")) | L20: =IF(H20="","",IFERROR(VLOOKUP(H20,'Reference & Instructions'!$A$14:$D$20,4,FALSE),"")) | M20: =IF(OR(J20="",L20=""),"",J20*L20/100) | O20: =IF(M20="","",M20*(1+IF(N20="",0,N20))) | R20: =IF(OR(E20="",C20="",O20=""),"",O20-IFERROR(SUMIFS($O$3:$O$102,$E$3:$E$102,E20,$C$3:$C$102,"<"&C20),0)) | T20: =IF(OR(J20="",K20=""),"",IF(J20<=K20,"Within maximum","Review maximum"))
I21: =IF(H21="","",IFERROR(VLOOKUP(H21,'Reference & Instructions'!$A$14:$D$20,2,FALSE),"")) | L21: =IF(H21="","",IFERROR(VLOOKUP(H21,'Reference & Instructions'!$A$14:$D$20,4,FALSE),"")) | M21: =IF(OR(J21="",L21=""),"",J21*L21/100) | O21: =IF(M21="","",M21*(1+IF(N21="",0,N21))) | R21: =IF(OR(E21="",C21="",O21=""),"",O21-IFERROR(SUMIFS($O$3:$O$102,$E$3:$E$102,E21,$C$3:$C$102,"<"&C21),0)) | T21: =IF(OR(J21="",K21=""),"",IF(J21<=K21,"Within maximum","Review maximum"))
I22: =IF(H22="","",IFERROR(VLOOKUP(H22,'Reference & Instructions'!$A$14:$D$20,2,FALSE),"")) | L22: =IF(H22="","",IFERROR(VLOOKUP(H22,'Reference & Instructions'!$A$14:$D$20,4,FALSE),"")) | M22: =IF(OR(J22="",L22=""),"",J22*L22/100) | O22: =IF(M22="","",M22*(1+IF(N22="",0,N22))) | R22: =IF(OR(E22="",C22="",O22=""),"",O22-IFERROR(SUMIFS($O$3:$O$102,$E$3:$E$102,E22,$C$3:$C$102,"<"&C22),0)) | T22: =IF(OR(J22="",K22=""),"",IF(J22<=K22,"Within maximum","Review maximum"))
I23: =IF(H23="","",IFERROR(VLOOKUP(H23,'Reference & Instructions'!$A$14:$D$20,2,FALSE),"")) | L23: =IF(H23="","",IFERROR(VLOOKUP(H23,'Reference & Instructions'!$A$14:$D$20,4,FALSE),"")) | M23: =IF(OR(J23="",L23=""),"",J23*L23/100) | O23: =IF(M23="","",M23*(1+IF(N23="",0,N23))) | R23: =IF(OR(E23="",C23="",O23=""),"",O23-IFERROR(SUMIFS($O$3:$O$102,$E$3:$E$102,E23,$C$3:$C$102,"<"&C23),0)) | T23: =IF(OR(J23="",K23=""),"",IF(J23<=K23,"Within maximum","Review maximum"))
... I102: =IF(H102="","",IFERROR(VLOOKUP(H102,'Reference & Instructions'!$A$14:$D$20,2,FALSE),"")) | L102: =IF(H102="","",IFERROR(VLOOKUP(H102,'Reference & Instructions'!$A$14:$D$20,4,FALSE),"")) | M102: =IF(OR(J102="",L102=""),"",J102*L102/100) | O102: =IF(M102="","",M102*(1+IF(N102="",0,N102))) | R102: =IF(OR(E102="",C102="",O102=""),"",O102-IFERROR(SUMIFS($O$3:$O$102,$E$3:$E$102,E102,$C$3:$C$102,"<"&C102),0)) | T102: =IF(OR(J102="",K102=""),"",IF(J102<=K102,"Within maximum","Review maximum"))

Sheet Summary Dashboard
A1: WSIB Premium Remittance Summary Dashboard — Ontario
A3: Selected Reporting Year | B3: 2026
A5: Total Insurable Earnings | B5: =SUM('Remittance Register'!$J$3:$J$102) | D5: Premium Before Adjustment | E5: =SUM('Remittance Register'!$M$3:$M$102) | G5: Total Adjusted Premium | H5: =SUM('Remittance Register'!$O$3:$O$102)
A7: Average Premium Rate | B7: =IFERROR(AVERAGE('Remittance Register'!$L$3:$L$102),0) | D7: Remittance Records | E7: =COUNTIF('Remittance Register'!$A$3:$A$102,"<>") | G7: Pending or Review Items | H7: =COUNTIF('Remittance Register'!$P$3:$P$102,"Pending")+COUNTIF('Remittance Register'!$P$3:$P$102,"Review")
A9: Paid Percentage | B9: =IFERROR(COUNTIF('Remittance Register'!$P$3:$P$102,"Paid")/COUNTIF('Remittance Register'!$A$3:$A$102,"<>"),0)
A13: Period-Level Summary | H13: Payment Status Totals
A14: Reporting Period | B14: Insurable Earnings (CAD) | C14: Adjusted Premium (CAD) | D14: Paid | E14: Pending | F14: Review | H14: Payment Status | I14: Records
A15: 46023 | B15: =IF(COUNTIF('Remittance Register'!$B$3:$B$102,A15)=0,"",SUMIF('Remittance Register'!$B$3:$B$102,A15,'Remittance Register'!$J$3:$J$102)) | C15: =IF(COUNTIF('Remittance Register'!$B$3:$B$102,A15)=0,"",SUMIF('Remittance Register'!$B$3:$B$102,A15,'Remittance Register'!$O$3:$O$102)) | D15: =IF(COUNTIF('Remittance Register'!$B$3:$B$102,A15)=0,"",COUNTIFS('Remittance Register'!$B$3:$B$102,A15,'Remittance Register'!$P$3:$P$102,"Paid")) | E15: =IF(COUNTIF('Remittance Register'!$B$3:$B$102,A15)=0,"",COUNTIFS('Remittance Register'!$B$3:$B$102,A15,'Remittance Register'!$P$3:$P$102,"Pending")) | F15: =IF(COUNTIF('Remittance Register'!$B$3:$B$102,A15)=0,"",COUNTIFS('Remittance Register'!$B$3:$B$102,A15,'Remittance Register'!$P$3:$P$102,"Review")) | H15: Paid | I15: =COUNTIF('Remittance Register'!$P$3:$P$102,H15)
A16: 46054 | B16: =IF(COUNTIF('Remittance Register'!$B$3:$B$102,A16)=0,"",SUMIF('Remittance Register'!$B$3:$B$102,A16,'Remittance Register'!$J$3:$J$102)) | C16: =IF(COUNTIF('Remittance Register'!$B$3:$B$102,A16)=0,"",SUMIF('Remittance Register'!$B$3:$B$102,A16,'Remittance Register'!$O$3:$O$102)) | D16: =IF(COUNTIF('Remittance Register'!$B$3:$B$102,A16)=0,"",COUNTIFS('Remittance Register'!$B$3:$B$102,A16,'Remittance Register'!$P$3:$P$102,"Paid")) | E16: =IF(COUNTIF('Remittance Register'!$B$3:$B$102,A16)=0,"",COUNTIFS('Remittance Register'!$B$3:$B$102,A16,'Remittance Register'!$P$3:$P$102,"Pending")) | F16: =IF(COUNTIF('Remittance Register'!$B$3:$B$102,A16)=0,"",COUNTIFS('Remittance Register'!$B$3:$B$102,A16,'Remittance Register'!$P$3:$P$102,"Review")) | H16: Pending | I16: =COUNTIF('Remittance Register'!$P$3:$P$102,H16)
A17: 46082 | B17: =IF(COUNTIF('Remittance Register'!$B$3:$B$102,A17)=0,"",SUMIF('Remittance Register'!$B$3:$B$102,A17,'Remittance Register'!$J$3:$J$102)) | C17: =IF(COUNTIF('Remittance Register'!$B$3:$B$102,A17)=0,"",SUMIF('Remittance Register'!$B$3:$B$102,A17,'Remittance Register'!$O$3:$O$102)) | D17: =IF(COUNTIF('Remittance Register'!$B$3:$B$102,A17)=0,"",COUNTIFS('Remittance Register'!$B$3:$B$102,A17,'Remittance Register'!$P$3:$P$102,"Paid")) | E17: =IF(COUNTIF('Remittance Register'!$B$3:$B$102,A17)=0,"",COUNTIFS('Remittance Register'!$B$3:$B$102,A17,'Remittance Register'!$P$3:$P$102,"Pending")) | F17: =IF(COUNTIF('Remittance Register'!$B$3:$B$102,A17)=0,"",COUNTIFS('Remittance Register'!$B$3:$B$102,A17,'Remittance Register'!$P$3:$P$102,"Review")) | H17: Review | I17: =COUNTIF('Remittance Register'!$P$3:$P$102,H17)
A18: 46113 | B18: =IF(COUNTIF('Remittance Register'!$B$3:$B$102,A18)=0,"",SUMIF('Remittance Register'!$B$3:$B$102,A18,'Remittance Register'!$J$3:$J$102)) | C18: =IF(COUNTIF('Remittance Register'!$B$3:$B$102,A18)=0,"",SUMIF('Remittance Register'!$B$3:$B$102,A18,'Remittance Register'!$O$3:$O$102)) | D18: =IF(COUNTIF('Remittance Register'!$B$3:$B$102,A18)=0,"",COUNTIFS('Remittance Register'!$B$3:$B$102,A18,'Remittance Register'!$P$3:$P$102,"Paid")) | E18: =IF(COUNTIF('Remittance Register'!$B$3:$B$102,A18)=0,"",COUNTIFS('Remittance Register'!$B$3:$B$102,A18,'Remittance Register'!$P$3:$P$102,"Pending")) | F18: =IF(COUNTIF('Remittance Register'!$B$3:$B$102,A18)=0,"",COUNTIFS('Remittance Register'!$B$3:$B$102,A18,'Remittance Register'!$P$3:$P$102,"Review"))
A19: 46143 | B19: =IF(COUNTIF('Remittance Register'!$B$3:$B$102,A19)=0,"",SUMIF('Remittance Register'!$B$3:$B$102,A19,'Remittance Register'!$J$3:$J$102)) | C19: =IF(COUNTIF('Remittance Register'!$B$3:$B$102,A19)=0,"",SUMIF('Remittance Register'!$B$3:$B$102,A19,'Remittance Register'!$O$3:$O$102)) | D19: =IF(COUNTIF('Remittance Register'!$B$3:$B$102,A19)=0,"",COUNTIFS('Remittance Register'!$B$3:$B$102,A19,'Remittance Register'!$P$3:$P$102,"Paid")) | E19: =IF(COUNTIF('Remittance Register'!$B$3:$B$102,A19)=0,"",COUNTIFS('Remittance Register'!$B$3:$B$102,A19,'Remittance Register'!$P$3:$P$102,"Pending")) | F19: =IF(COUNTIF('Remittance Register'!$B$3:$B$102,A19)=0,"",COUNTIFS('Remittance Register'!$B$3:$B$102,A19,'Remittance Register'!$P$3:$P$102,"Review"))
A20: 46174 | B20: =IF(COUNTIF('Remittance Register'!$B$3:$B$102,A20)=0,"",SUMIF('Remittance Register'!$B$3:$B$102,A20,'Remittance Register'!$J$3:$J$102)) | C20: =IF(COUNTIF('Remittance Register'!$B$3:$B$102,A20)=0,"",SUMIF('Remittance Register'!$B$3:$B$102,A20,'Remittance Register'!$O$3:$O$102)) | D20: =IF(COUNTIF('Remittance Register'!$B$3:$B$102,A20)=0,"",COUNTIFS('Remittance Register'!$B$3:$B$102,A20,'Remittance Register'!$P$3:$P$102,"Paid")) | E20: =IF(COUNTIF('Remittance Register'!$B$3:$B$102,A20)=0,"",COUNTIFS('Remittance Register'!$B$3:$B$102,A20,'Remittance Register'!$P$3:$P$102,"Pending")) | F20: =IF(COUNTIF('Remittance Register'!$B$3:$B$102,A20)=0,"",COUNTIFS('Remittance Register'!$B$3:$B$102,A20,'Remittance Register'!$P$3:$P$102,"Review"))
A21: 46204 | B21: =IF(COUNTIF('Remittance Register'!$B$3:$B$102,A21)=0,"",SUMIF('Remittance Register'!$B$3:$B$102,A21,'Remittance Register'!$J$3:$J$102)) | C21: =IF(COUNTIF('Remittance Register'!$B$3:$B$102,A21)=0,"",SUMIF('Remittance Register'!$B$3:$B$102,A21,'Remittance Register'!$O$3:$O$102)) | D21: =IF(COUNTIF('Remittance Register'!$B$3:$B$102,A21)=0,"",COUNTIFS('Remittance Register'!$B$3:$B$102,A21,'Remittance Register'!$P$3:$P$102,"Paid")) | E21: =IF(COUNTIF('Remittance Register'!$B$3:$B$102,A21)=0,"",COUNTIFS('Remittance Register'!$B$3:$B$102,A21,'Remittance Register'!$P$3:$P$102,"Pending")) | F21: =IF(COUNTIF('Remittance Register'!$B$3:$B$102,A21)=0,"",COUNTIFS('Remittance Register'!$B$3:$B$102,A21,'Remittance Register'!$P$3:$P$102,"Review"))
A22: 46235 | B22: =IF(COUNTIF('Remittance Register'!$B$3:$B$102,A22)=0,"",SUMIF('Remittance Register'!$B$3:$B$102,A22,'Remittance Register'!$J$3:$J$102)) | C22: =IF(COUNTIF('Remittance Register'!$B$3:$B$102,A22)=0,"",SUMIF('Remittance Register'!$B$3:$B$102,A22,'Remittance Register'!$O$3:$O$102)) | D22: =IF(COUNTIF('Remittance Register'!$B$3:$B$102,A22)=0,"",COUNTIFS('Remittance Register'!$B$3:$B$102,A22,'Remittance Register'!$P$3:$P$102,"Paid")) | E22: =IF(COUNTIF('Remittance Register'!$B$3:$B$102,A22)=0,"",COUNTIFS('Remittance Register'!$B$3:$B$102,A22,'Remittance Register'!$P$3:$P$102,"Pending")) | F22: =IF(COUNTIF('Remittance Register'!$B$3:$B$102,A22)=0,"",COUNTIFS('Remittance Register'!$B$3:$B$102,A22,'Remittance Register'!$P$3:$P$102,"Review"))
A23: 46266 | B23: =IF(COUNTIF('Remittance Register'!$B$3:$B$102,A23)=0,"",SUMIF('Remittance Register'!$B$3:$B$102,A23,'Remittance Register'!$J$3:$J$102)) | C23: =IF(COUNTIF('Remittance Register'!$B$3:$B$102,A23)=0,"",SUMIF('Remittance Register'!$B$3:$B$102,A23,'Remittance Register'!$O$3:$O$102)) | D23: =IF(COUNTIF('Remittance Register'!$B$3:$B$102,A23)=0,"",COUNTIFS('Remittance Register'!$B$3:$B$102,A23,'Remittance Register'!$P$3:$P$102,"Paid")) | E23: =IF(COUNTIF('Remittance Register'!$B$3:$B$102,A23)=0,"",COUNTIFS('Remittance Register'!$B$3:$B$102,A23,'Remittance Register'!$P$3:$P$102,"Pending")) | F23: =IF(COUNTIF('Remittance Register'!$B$3:$B$102,A23)=0,"",COUNTIFS('Remittance Register'!$B$3:$B$102,A23,'Remittance Register'!$P$3:$P$102,"Review"))
A24: 46296 | B24: =IF(COUNTIF('Remittance Register'!$B$3:$B$102,A24)=0,"",SUMIF('Remittance Register'!$B$3:$B$102,A24,'Remittance Register'!$J$3:$J$102)) | C24: =IF(COUNTIF('Remittance Register'!$B$3:$B$102,A24)=0,"",SUMIF('Remittance Register'!$B$3:$B$102,A24,'Remittance Register'!$O$3:$O$102)) | D24: =IF(COUNTIF('Remittance Register'!$B$3:$B$102,A24)=0,"",COUNTIFS('Remittance Register'!$B$3:$B$102,A24,'Remittance Register'!$P$3:$P$102,"Paid")) | E24: =IF(COUNTIF('Remittance Register'!$B$3:$B$102,A24)=0,"",COUNTIFS('Remittance Register'!$B$3:$B$102,A24,'Remittance Register'!$P$3:$P$102,"Pending")) | F24: =IF(COUNTIF('Remittance Register'!$B$3:$B$102,A24)=0,"",COUNTIFS('Remittance Register'!$B$3:$B$102,A24,'Remittance Register'!$P$3:$P$102,"Review"))
A25: 46327 | B25: =IF(COUNTIF('Remittance Register'!$B$3:$B$102,A25)=0,"",SUMIF('Remittance Register'!$B$3:$B$102,A25,'Remittance Register'!$J$3:$J$102)) | C25: =IF(COUNTIF('Remittance Register'!$B$3:$B$102,A25)=0,"",SUMIF('Remittance Register'!$B$3:$B$102,A25,'Remittance Register'!$O$3:$O$102)) | D25: =IF(COUNTIF('Remittance Register'!$B$3:$B$102,A25)=0,"",COUNTIFS('Remittance Register'!$B$3:$B$102,A25,'Remittance Register'!$P$3:$P$102,"Paid")) | E25: =IF(COUNTIF('Remittance Register'!$B$3:$B$102,A25)=0,"",COUNTIFS('Remittance Register'!$B$3:$B$102,A25,'Remittance Register'!$P$3:$P$102,"Pending")) | F25: =IF(COUNTIF('Remittance Register'!$B$3:$B$102,A25)=0,"",COUNTIFS('Remittance Register'!$B$3:$B$102,A25,'Remittance Register'!$P$3:$P$102,"Review"))
A26: 46357 | B26: =IF(COUNTIF('Remittance Register'!$B$3:$B$102,A26)=0,"",SUMIF('Remittance Register'!$B$3:$B$102,A26,'Remittance Register'!$J$3:$J$102)) | C26: =IF(COUNTIF('Remittance Register'!$B$3:$B$102,A26)=0,"",SUMIF('Remittance Register'!$B$3:$B$102,A26,'Remittance Register'!$O$3:$O$102)) | D26: =IF(COUNTIF('Remittance Register'!$B$3:$B$102,A26)=0,"",COUNTIFS('Remittance Register'!$B$3:$B$102,A26,'Remittance Register'!$P$3:$P$102,"Paid")) | E26: =IF(COUNTIF('Remittance Register'!$B$3:$B$102,A26)=0,"",COUNTIFS('Remittance Register'!$B$3:$B$102,A26,'Remittance Register'!$P$3:$P$102,"Pending")) | F26: =IF(COUNTIF('Remittance Register'!$B$3:$B$102,A26)=0,"",COUNTIFS('Remittance Register'!$B$3:$B$102,A26,'Remittance Register'!$P$3:$P$102,"Review"))
A29: Dashboard Note | B29: This dashboard is an estimation and tracking view. Confirm remittance requirements, rates, deadlines, and insurable earnings with WSIB and your payroll adviser.

Sheet Reference & Instructions
A1: WSIB Premium Remittance Reference & Instructions
A3: Workbook Instructions
A4: 1 | B4: Yellow cells are user inputs. Enter or update them for each payroll reporting period.
A5: 2 | B5: Enter insurable earnings based on applicable WSIB rules and your payroll records.
A6: 3 | B6: Confirm the employer's WSIB account number and classification before relying on a calculated premium.
A7: 4 | B7: Enter the employer-confirmed maximum annual insurable earnings before submitting any remittance.
A8: 5 | B8: Confirm payment deadlines and filing requirements directly with WSIB, as timing can vary by account.
A9: 6 | B9: Keep payroll records, supporting calculations, and remittance confirmations for audit purposes.
A10: 7 | B10: This workbook is an estimation and tracking tool and does not replace WSIB guidance or professional advice.
A12: WSIB Classification Rate Lookup Table
A13: WSIB Class Code | B13: Business Activity | C13: Ontario Industry Rate Group | D13: Rate per $100 of Earnings
A14: 10000 | B14: Office administration | C14: Industry Rate Group A | D14: 0.8
A15: 10150 | B15: Retail | C15: Industry Rate Group B | D15: 1.2
A16: 11200 | B16: Construction support | C16: Industry Rate Group D | D16: 2.4
A17: 11400 | B17: Food services | C17: Industry Rate Group C | D17: 1.7
A18: 12100 | B18: Professional services | C18: Industry Rate Group A | D18: 0.95
A19: 13100 | B19: Warehousing | C19: Industry Rate Group C | D19: 1.55
A20: 14100 | B20: Transportation support | C20: Industry Rate Group D | D20: 2.1
C22: Average listed rate | D22: =AVERAGE(D14:D20)
